BEGIN:VCALENDAR
VERSION:2.0
PRODID:-//Center for Applied Linguistics - ECPv6.15.20//NONSGML v1.0//EN
CALSCALE:GREGORIAN
METHOD:PUBLISH
X-ORIGINAL-URL:https://www.cal.org
X-WR-CALDESC:Events for Center for Applied Linguistics
REFRESH-INTERVAL;VALUE=DURATION:PT1H
X-Robots-Tag:noindex
X-PUBLISHED-TTL:PT1H
BEGIN:VTIMEZONE
TZID:UTC
BEGIN:STANDARD
TZOFFSETFROM:+0000
TZOFFSETTO:+0000
TZNAME:UTC
DTSTART:20240101T000000
END:STANDARD
END:VTIMEZONE
BEGIN:VEVENT
DTSTART;VALUE=DATE:20251028
DTEND;VALUE=DATE:20251029
DTSTAMP:20260425T112527
CREATED:20251006T154025Z
LAST-MODIFIED:20251121T203836Z
UID:29659-1761609600-1761695999@www.cal.org
SUMMARY:WIDA Conference 2025 Presentation - The New WIDA ACCESS Writing Scoring Rubric for Grades 1-12
DESCRIPTION:The New WIDA ACCESS Writing Scoring Rubric for Grades 1-12\nDate & Time: October 28\, 2025 | 1:15 p.m. PT \nPresenter(s): \n\nTanya Bitterman\n\nDescription: \nDo you want a better understanding of how the WIDA ACCESS Writing test is scored? Come to this workshop to hear about the new WIDA Writing Scoring Rubric for grades 1-12\, which was developed to align with the 2020 Standards Framework and will be used for ACCESS scoring this year. In this session you will learn about how student responses and educator input were involved in creating the new rubric and get a chance to try scoring with the new rubric yourself.
URL:https://www.cal.org/event/wida-conference-2025-presentation-the-new-wida-access-writing-scoring-rubric-for-grades-1-12/
CATEGORIES:Calendar of Events,Presentations
ATTACH;FMTTYPE=image/jpeg:https://www.cal.org/wp-content/uploads/2025/02/GettyImages-1472033620-scaled.jpg
END:VEVENT
BEGIN:VEVENT
DTSTART;VALUE=DATE:20251029
DTEND;VALUE=DATE:20251030
DTSTAMP:20260425T112527
CREATED:20251022T201156Z
LAST-MODIFIED:20251121T204508Z
UID:29705-1761696000-1761782399@www.cal.org
SUMMARY:WIDA Conference 2025 Presentation: “A Peek Behind the New Kindergarten ACCESS"
DESCRIPTION:“A Peek Behind the New Kindergarten ACCESS”\nEvent: WIDA Conference 2025\nDate: Wednesday\, October 29\, 2025 \n   Location: Room B\nTime: 2:45 p.m.\nSession Format: Workshop \nPresenters: \n\nRegina DiBella (CAL)\nChristy Shepherd (CAL)\nBeth DeVito (WIDA)\nMarcy Olson (WIDA)\n\nDescription: \nCurious about the new WIDA ACCESS for Kindergarten (K ACCESS) test? Join this session to preview what’s changed and learn some tips on administering the redesigned assessment. We’ll use the new rubrics to practice scoring actual student speaking and writing responses. You’ll leave with a better understanding of the updated Kindergarten ACCESS and how to prepare for administering the test.
URL:https://www.cal.org/event/wida-conference-2025-presentation-a-peek-behind-the-new-kindergarten-access-2/
CATEGORIES:Calendar of Events,Presentations
ATTACH;FMTTYPE=image/jpeg:https://www.cal.org/wp-content/uploads/2025/02/GettyImages-2158944751-scaled.jpg
END:VEVENT
END:VCALENDAR