BEGIN:VCALENDAR
VERSION:2.0
PRODID:-//Center for Applied Linguistics - ECPv6.15.20//NONSGML v1.0//EN
CALSCALE:GREGORIAN
METHOD:PUBLISH
X-ORIGINAL-URL:https://www.cal.org
X-WR-CALDESC:Events for Center for Applied Linguistics
REFRESH-INTERVAL;VALUE=DURATION:PT1H
X-Robots-Tag:noindex
X-PUBLISHED-TTL:PT1H
BEGIN:VTIMEZONE
TZID:UTC
BEGIN:STANDARD
TZOFFSETFROM:+0000
TZOFFSETTO:+0000
TZNAME:UTC
DTSTART:20240101T000000
END:STANDARD
END:VTIMEZONE
BEGIN:VEVENT
DTSTART;VALUE=DATE:20251107
DTEND;VALUE=DATE:20251108
DTSTAMP:20260425T112911
CREATED:20251006T154619Z
LAST-MODIFIED:20251121T204240Z
UID:29661-1762473600-1762559999@www.cal.org
SUMMARY:NCSTA 2025 Conference Presentation: Let's See What Multilingual Kids Can Really Do: Making Science Assessment Serve Your Students Needs.
DESCRIPTION:“Let’s See What Multilingual Kids Can Really Do: Making Science Assessment Serve Your Students Needs”\nEvent: North Carolina Science Teachers Association (NCSTA) Conference\nLocation: Winston 3A\nDate: Friday\, November 7\, 2025\nTime: 2:40 p.m.\nSession Format: Presentation\nPresenters: \n\nSilvia McDonald\, NCDPI\, ML/Title III Consultant\, M2-Si Principal Investigator\nKeira Ballantyne\, CAL\, VP of Programs and Development\, Co-Principal Investigator\nAmy Burden\, CAL\, M2-Si Test Development Manager\nBrittany York\, CAL\, M2-Si Senior Research Assistant\n\nDescription:\nM2-Si–a collaborative project between NCDPI and the Center for Applied Linguistics–brings interactive science activities to multilingual students and their families. These activities meet students where they are while assessing content aligned to the 2023 NC Science Standard Course of Study and proficiency statements. We invite you for a first look at our innovative e-portfolio infused with multilingual and multimodal supports that will be available statewide! You’ll leave with classroom-ready resources and best practices for implementation.
URL:https://www.cal.org/event/wida-conference-2025-presentation-a-peek-behind-the-new-kindergarten-access/
CATEGORIES:Calendar of Events,Presentations
ATTACH;FMTTYPE=image/jpeg:https://www.cal.org/wp-content/uploads/2025/02/GettyImages-1385168810.jpg
END:VEVENT
END:VCALENDAR