BEGIN:VCALENDAR
VERSION:2.0
PRODID:-//Center for Applied Linguistics - ECPv6.15.20//NONSGML v1.0//EN
CALSCALE:GREGORIAN
METHOD:PUBLISH
X-ORIGINAL-URL:https://www.cal.org
X-WR-CALDESC:Events for Center for Applied Linguistics
REFRESH-INTERVAL;VALUE=DURATION:PT1H
X-Robots-Tag:noindex
X-PUBLISHED-TTL:PT1H
BEGIN:VTIMEZONE
TZID:UTC
BEGIN:STANDARD
TZOFFSETFROM:+0000
TZOFFSETTO:+0000
TZNAME:UTC
DTSTART:20240101T000000
END:STANDARD
END:VTIMEZONE
BEGIN:VEVENT
DTSTART;TZID=UTC:20251204T080000
DTEND;TZID=UTC:20251204T170000
DTSTAMP:20260425T102700
CREATED:20251204T164744Z
LAST-MODIFIED:20260106T173917Z
UID:29770-1764835200-1764867600@www.cal.org
SUMMARY:Multilingual Illinois 2025 Statewide Conference Presentation: Guiding Principles for Dual Language Education: Updating for Authenticity and Innovation
DESCRIPTION:“Guiding Principles for Dual Language Education: Updating for Authenticity and Innovation”\nEvent: Multilingual Illinois 2025 Statewide Conference\nLocation: South Pavilion 1\nDate: December 9\, 2025\nSession Format: Presentation\nPresenters: \n\n\nAnalleli Hernández (Center for Applied Linguistics) \n\n\nDescription:\nCalling all dual language education stakeholders! It’s been over seven years since Guiding Principles for Dual Language Education (GPDLE)\, edition 3 was published and it’s time for an update to this important\, widely used resource. Join the Center for Applied Linguistics for a session to help shape the future of the next edition! This feedback-focused session will invite participants to share their experience using GPDLE to implement quality dual language bilingual education (DLBE) programming and reflect on what needs to be updated and included for the next generation of DLBE programs.
URL:https://www.cal.org/event/multilingual-illinois-2025-statewide-conference-presentation-guiding-principles-for-dual-language-education-updating-for-authenticity-and-innovation-2/
CATEGORIES:Calendar of Events,Presentations
ATTACH;FMTTYPE=image/jpeg:https://www.cal.org/wp-content/uploads/2025/12/GettyImages-1137916405.jpg
END:VEVENT
END:VCALENDAR