BEGIN:VCALENDAR
VERSION:2.0
PRODID:-//Center for Applied Linguistics - ECPv6.15.20//NONSGML v1.0//EN
CALSCALE:GREGORIAN
METHOD:PUBLISH
X-WR-CALNAME:Center for Applied Linguistics
X-ORIGINAL-URL:https://www.cal.org
X-WR-CALDESC:Events for Center for Applied Linguistics
REFRESH-INTERVAL;VALUE=DURATION:PT1H
X-Robots-Tag:noindex
X-PUBLISHED-TTL:PT1H
BEGIN:VTIMEZONE
TZID:UTC
BEGIN:STANDARD
TZOFFSETFROM:+0000
TZOFFSETTO:+0000
TZNAME:UTC
DTSTART:20250101T000000
END:STANDARD
END:VTIMEZONE
BEGIN:VEVENT
DTSTART;TZID=UTC:20260206T083000
DTEND;TZID=UTC:20260206T083000
DTSTAMP:20260423T151750
CREATED:20260205T143612Z
LAST-MODIFIED:20260217T213346Z
UID:30038-1770366600-1770366600@www.cal.org
SUMMARY:EERA Conference Presentation: Designing and implementing welcoming formative assessments: Evidence on multilingual and multimodal practices in primary science education
DESCRIPTION:“Designing and implementing welcoming formative assessments: Evidence on multilingual and multimodal practices in primary science education”\nEvent: EERA Conference 2026\nLocation: Palm Room\nDate & Time: February 6 2026 | 8:30 AM\nSession Format: Presentation\nPresenter(s): \n\n\nAmy Burden – Test Development Manager (CAL) \n\n\nKeira Ballantyne – VP Programs and Development (CAL) \n\n\nDescription:  \nThis study explores the Multilingual Multimodal Science Inventory (M2-Si) in primary science (grades 3-5). We demonstrate M2-Si’s feasibility and its utility for educators to uncover misconceptions and adjust instruction using students’ full linguistic repertoires.
URL:https://www.cal.org/event/eera-conference-presentation-designing-and-implementing-welcoming-formative-assessments-evidence-on-multilingual-and-multimodal-practices-in-primary-science-education/
CATEGORIES:Calendar of Events,Presentations
ATTACH;FMTTYPE=image/jpeg:https://www.cal.org/wp-content/uploads/2025/02/GettyImages-2184295336.jpg
END:VEVENT
END:VCALENDAR